BEGIN:VCALENDAR
PRODID:www.gfms.com
VERSION:2.0
CALSCALE:GREGORIAN
METHOD:PUBLISH
BEGIN:VEVENT
DTSTAMP:20260421T161116Z
UID:6079a068-4fb0-41e7-bdce-c06d70bb58c6
DESCRIPTION:International Manufacturing Technology Show\n
X-ALT-DESC;FMTTYPE=text/html:<p>International Manufacturing Technology Show</p>\n
LOCATION:United States\, Chicago\, IL
SUMMARY:IMTS
DTSTART:20260913T220100Z
DTEND:20260919T215900Z
URL:https://www.imts.com/
END:VEVENT
END:VCALENDAR
